BEGIN:VCALENDAR
VERSION:2.0
PRODID:-//The Veterinary News &amp; Views - ECPv6.15.18//NONSGML v1.0//EN
CALSCALE:GREGORIAN
METHOD:PUBLISH
X-ORIGINAL-URL:https://vetnewsandviews.com/en
X-WR-CALDESC:Events for The Veterinary News &amp; Views
REFRESH-INTERVAL;VALUE=DURATION:PT1H
X-Robots-Tag:noindex
X-PUBLISHED-TTL:PT1H
BEGIN:VTIMEZONE
TZID:Asia/Karachi
BEGIN:STANDARD
TZOFFSETFROM:+0500
TZOFFSETTO:+0500
TZNAME:PKT
DTSTART:20250101T000000
END:STANDARD
END:VTIMEZONE
BEGIN:VTIMEZONE
TZID:Asia/Karachi
BEGIN:STANDARD
TZOFFSETFROM:+0500
TZOFFSETTO:+0500
TZNAME:PKT
DTSTART:20250101T000000
END:STANDARD
END:VTIMEZONE
BEGIN:VTIMEZONE
TZID:Antarctica/Vostok
BEGIN:STANDARD
TZOFFSETFROM:+0500
TZOFFSETTO:+0500
TZNAME:+05
DTSTART:20250101T000000
END:STANDARD
END:VTIMEZONE
BEGIN:VEVENT
DTSTART;TZID=Asia/Karachi:20260422T080000
DTEND;TZID=Asia/Karachi:20260424T170000
DTSTAMP:20260421T170249
CREATED:20260123T072521Z
LAST-MODIFIED:20260128T081053Z
UID:7436-1776844800-1777050000@vetnewsandviews.com
SUMMARY:VIV Select India 2026
DESCRIPTION:A Focused B2B Platform for South Asia’s Livestock & Feed Industry \n\n\n\n\n\nNew Delhi\, India | April 22–24\, 2026 \n\n\n\nVIV Select India 2026 is a selective international B2B exhibition designed to connect global solution providers with India’s fast-growing animal protein and livestock markets. The event focuses on feed\, genetics\, animal health\, nutrition\, and production technologies\, offering a high-quality environment for meaningful business engagement.  \n\n\n\nWith a carefully curated exhibitor and visitor profile\, VIV Select India emphasizes strategic partnerships\, technology transfer\, and regional market development. It is particularly relevant for companies seeking long-term growth opportunities in South Asia’s evolving livestock\, poultry\, and agribusiness sectors.
URL:https://vetnewsandviews.com/en/eventsexpo/viv-select-india-2026/
LOCATION:Bangkok
ATTACH;FMTTYPE=image/jpeg:https://vetnewsandviews.com/en/wp-content/uploads/2026/01/Event-Expo-1.jpg
END:VEVENT
BEGIN:VEVENT
DTSTART;TZID=Asia/Karachi:20260428T090000
DTEND;TZID=Asia/Karachi:20260430T170000
DTSTAMP:20260421T170249
CREATED:20251218T101158Z
LAST-MODIFIED:20251219T111021Z
UID:7076-1777366800-1777568400@vetnewsandviews.com
SUMMARY:IVP Expo 2026 – International Veterinary Pharma Expo
DESCRIPTION:IVP Expo 2026 – International Veterinary Pharma Expo\nIVP Expo 2026 (International Veterinary Pharma Expo) is Pakistan’s premier international exhibition dedicated to veterinary pharmaceuticals\, biologicals\, animal health products\, diagnostics\, feed additives\, and allied livestock technologies. \nThe three-day expo will bring together leading veterinary pharmaceutical companies\, manufacturers\, distributors\, veterinarians\, researchers\, and industry stakeholders from across Pakistan and abroad. IVP Expo serves as a professional platform for business networking\, knowledge exchange\, product showcasing\, and strengthening Pakistan’s veterinary healthcare ecosystem. \nOrganized by International Veterinary Pharma Expo (IVP)\, the event reflects Pakistan’s growing role in regional veterinary pharmaceutical development\, innovation\, and industry collaboration. \n\n\n\n\nBrand with The Veterinary News & Views (VNV)\nAs the Official Media Partner & Communications Agency of IVP Expo 2026\, The Veterinary News & Views (VNV) offers exhibitors\, sponsors\, and participating companies a powerful platform to enhance brand visibility before\, during\, and after the expo. \nThrough VNV’s established print newspaper\, digital news portal\, and professional social media networks\, companies can promote their brands\, products\, and innovations to a highly targeted national and international audience across the veterinary\, livestock\, poultry\, dairy\, and agribusiness sectors. VNV delivers integrated branding solutions including editorial features\, corporate profiles\, product launches\, special expo supplements\, digital campaigns\, and on-ground media coverage\, tailored to exhibitors’ marketing objectives. \nCompanies seeking strategic branding\, publication\, and media visibility during IVP Expo 2026 are encouraged to explore VNV’s complete media profile and professionally designed branding toolkits\, created to deliver maximum impact and sector-wide reach. \n \n🔗 VNV Media Profile & Branding Toolkit: \nhttps://www.canva.com/design/DAG49Scq-5A/gGEU49cOaM7A6Cn0_S6Nsg/edit?utm_content=DAG49Scq-5A&utm_campaign=designshare&utm_medium=link2&utm_source=sharebutton \n \n📧 Email: info@vetnewsandviews.com📞 Contact: +92 300 7600037
URL:https://vetnewsandviews.com/en/eventsexpo/ivp-expo-2026-international-veterinary-pharma-expo/
LOCATION:IVP – International Veterinary Pharma Expo\, Expo Center -Johar Town\, Lahore\, Punjab\, Pakistan
CATEGORIES:IVP
ATTACH;FMTTYPE=image/png:https://vetnewsandviews.com/en/wp-content/uploads/2025/12/Your-paragraph-text-3.png
END:VEVENT
BEGIN:VEVENT
DTSTART;TZID=Antarctica/Vostok:20260520T080000
DTEND;TZID=Antarctica/Vostok:20260522T170000
DTSTAMP:20260421T170249
CREATED:20260128T073539Z
LAST-MODIFIED:20260128T073610Z
UID:7495-1779264000-1779469200@vetnewsandviews.com
SUMMARY:ILDEX Vietnam 2026
DESCRIPTION:International Livestock\, Poultry & Animal Health Exhibition \n\n\n\n\n\n\n\n\n\n\n\n\n\nILDEX Vietnam 2026
URL:https://vetnewsandviews.com/en/eventsexpo/ildex-vietnam-2026-2/
LOCATION:TCC Exhibition and Convention Center from Thailand
ATTACH;FMTTYPE=image/jpeg:https://vetnewsandviews.com/en/wp-content/uploads/2026/01/Event-Expo-2.jpg
END:VEVENT
BEGIN:VEVENT
DTSTART;TZID=Asia/Karachi:20260819T080000
DTEND;TZID=Asia/Karachi:20260821T170000
DTSTAMP:20260421T170249
CREATED:20260123T080934Z
LAST-MODIFIED:20260128T080747Z
UID:7446-1787126400-1787331600@vetnewsandviews.com
SUMMARY:VIV Select China 2026
DESCRIPTION:Premium B2B Platform for China’s Advanced Animal Protein Sector \n\n\n\n\n\nShanghai\, China | August 19–21\, 2026 \n\n\n\nVIV Select China 2026 is a high-level\, selective exhibition designed for China’s technologically advanced livestock and feed industries. The event focuses on innovation\, sustainability\, biosecurity\, and efficiency in animal production\, nutrition\, and processing. With a carefully targeted exhibitor and visitor base\, VIV Select China enables focused business discussions and strategic collaboration.  \n\n\n\nIt provides international companies with direct access to key decision-makers and industry leaders in one of the world’s most complex and influential agrifood markets.
URL:https://vetnewsandviews.com/en/eventsexpo/viv-select-china-2026/
LOCATION:Bangkok
ATTACH;FMTTYPE=image/jpeg:https://vetnewsandviews.com/en/wp-content/uploads/2026/01/Event-Expo-4.jpg
END:VEVENT
BEGIN:VEVENT
DTSTART;TZID=Asia/Karachi:20260826T080000
DTEND;TZID=Asia/Karachi:20260828T170000
DTSTAMP:20260421T170249
CREATED:20260123T091625Z
LAST-MODIFIED:20260128T080647Z
UID:7449-1787731200-1787936400@vetnewsandviews.com
SUMMARY:ILDEX Philippines 2026
DESCRIPTION:Supporting Modern Livestock & Poultry Production \n\n\n\n\n\nManila\, Philippines | August 26–28\, 2026 \n\n\n\nILDEX Philippines 2026 is a dedicated exhibition serving the livestock\, poultry\, feed milling\, and animal health sectors of the Philippines. The event brings together local producers\, integrators\, veterinarians\, and international solution providers.  \n\n\n\nILDEX Philippines supports the adoption of modern farming practices\, disease control strategies\, and sustainable production systems. It plays an important role in strengthening the country’s animal protein value chain through technology transfer\, industry collaboration\, and business networking.
URL:https://vetnewsandviews.com/en/eventsexpo/ildex-philippines-2026/
LOCATION:Bangkok
ATTACH;FMTTYPE=image/jpeg:https://vetnewsandviews.com/en/wp-content/uploads/2026/01/Event-Expo-5.jpg
END:VEVENT
BEGIN:VEVENT
DTSTART;TZID=Asia/Karachi:20261104T080000
DTEND;TZID=Asia/Karachi:20261104T170000
DTSTAMP:20260421T170249
CREATED:20260123T110110Z
LAST-MODIFIED:20260128T074711Z
UID:7475-1793779200-1793811600@vetnewsandviews.com
SUMMARY:Farmfair International 2026
DESCRIPTION:Canada’s Premier Agricultural & Livestock Exhibition\n\n\n\n\n\nEdmonton\, Alberta\, Canada | November 4-7 \n\n\n\nFarmfair International 2026 is one of Canada’s leading agricultural exhibitions\, showcasing excellence in livestock production\, agri-technology\, genetics\, and international trade. Held annually in Edmonton\, the event brings together farmers\, breeders\, agribusiness companies\, researchers\, and policymakers from across Canada and abroad. Farmfair International is widely recognized for its livestock shows\, innovation displays\, and educational programs highlighting modern farming practices.  \n\n\n\nThe exhibition provides a strong platform for networking\, knowledge exchange\, and business development while promoting sustainable agriculture and technological advancement in the livestock and crop production sectors.
URL:https://vetnewsandviews.com/en/eventsexpo/farmfair-international-2026/
LOCATION:Bangkok
ATTACH;FMTTYPE=image/jpeg:https://vetnewsandviews.com/en/wp-content/uploads/2026/01/Event-Expo-12.jpg
END:VEVENT
BEGIN:VEVENT
DTSTART;TZID=Asia/Karachi:20261113T080000
DTEND;TZID=Asia/Karachi:20261115T170000
DTSTAMP:20260421T170249
CREATED:20260123T110944Z
LAST-MODIFIED:20260128T074521Z
UID:7478-1794556800-1794762000@vetnewsandviews.com
SUMMARY:Ohio National Poultry Show 2026
DESCRIPTION:A Premier Exhibition for Poultry Breeders & Enthusiasts \n\n\n\n\n\nOhio Expo Center\, Columbus\, Ohio\, USA | November 13–15\, 2026 \n\n\n\nThe Ohio National Poultry Show 2026 is a prestigious event dedicated to exhibiting poultry and breeding excellence in the United States. Hosted at the Ohio Expo Center\, the show features the American Poultry Association’s Annual Meet\, attracting top breeders of chickens\, bantams\, and waterfowl from across the country. \n\n\n\nThe event serves as a key gathering for poultry professionals\, hobbyists\, and genetic specialists\, offering competitive shows\, breed standards evaluation\, and educational opportunities. It plays an important role in preserving poultry genetics and promoting best practices in poultry breeding and exhibition.
URL:https://vetnewsandviews.com/en/eventsexpo/ohio-national-poultry-show-2026/
LOCATION:Bangkok
ATTACH;FMTTYPE=image/jpeg:https://vetnewsandviews.com/en/wp-content/uploads/2026/01/Event-Expo-13.jpg
END:VEVENT
BEGIN:VEVENT
DTSTART;TZID=Asia/Karachi:20261124T080000
DTEND;TZID=Asia/Karachi:20261125T170000
DTSTAMP:20260421T170249
CREATED:20260123T111811Z
LAST-MODIFIED:20260128T074326Z
UID:7481-1795507200-1795626000@vetnewsandviews.com
SUMMARY:German Meat Congress 2026
DESCRIPTION:Strategic Forum for Europe’s Meat & Protein Industry \n\n\n\nRheingoldhalle\, Mainz\, Germany | November 24–25\, 2026 \n\n\n\nThe German Meat Congress 2026 is a high-level industry conference focusing on the future of meat production\, processing\, and protein markets in Europe. Held in Mainz\, the congress brings together industry leaders\, processors\, policymakers\, retailers\, and technology providers. Key discussions address market trends\, sustainability\, animal welfare\, regulatory developments\, and consumer expectations.  \n\n\n\nThe German Meat Congress serves as an important platform for strategic dialogue\, policy insight\, and business networking\, supporting innovation and responsible growth within the European meat and protein sector.
URL:https://vetnewsandviews.com/en/eventsexpo/german-meat-congress-2026/
LOCATION:Bangkok
ATTACH;FMTTYPE=image/jpeg:https://vetnewsandviews.com/en/wp-content/uploads/2026/01/Event-Expo-14.jpg
END:VEVENT
BEGIN:VEVENT
DTSTART;TZID=Asia/Karachi:20261124T080000
DTEND;TZID=Asia/Karachi:20261126T170000
DTSTAMP:20260421T170249
CREATED:20260123T112421Z
LAST-MODIFIED:20260128T075558Z
UID:7484-1795507200-1795712400@vetnewsandviews.com
SUMMARY:Poultry Tech Expo 2026
DESCRIPTION:International Fair for Poultry Breeding & Egg Production \n\n\n\nPtak Warsaw Expo\, Warsaw\, Poland | November 24–26\, 2026 \n\n\n\nPoultry Tech Expo 2026 is an international industry fair dedicated to poultry breeding\, egg production\, and modern poultry technologies. Hosted at Ptak Warsaw Expo\, the event brings together producers\, equipment manufacturers\, technology providers\, and industry experts from across Europe and beyond.  \n\n\n\n\n\nThe exhibition highlights innovations in breeding systems\, housing\, automation\, feed solutions\, and egg processing. Poultry Tech Expo provides a focused business platform for knowledge exchange\, technology presentation\, and partnership development\, supporting the advancement of efficient and sustainable poultry production systems.
URL:https://vetnewsandviews.com/en/eventsexpo/poultry-tech-expo-2026/
LOCATION:Bangkok
CATEGORIES:Upcoming Event
ATTACH;FMTTYPE=image/jpeg:https://vetnewsandviews.com/en/wp-content/uploads/2026/01/Event-Expo-15.jpg
END:VEVENT
BEGIN:VEVENT
DTSTART;TZID=Asia/Karachi:20270310T080000
DTEND;TZID=Asia/Karachi:20270312T170000
DTSTAMP:20260421T170249
CREATED:20260123T094601Z
LAST-MODIFIED:20260128T080448Z
UID:7460-1804665600-1804870800@vetnewsandviews.com
SUMMARY:VIV Asia 2027
DESCRIPTION:Asia’s Flagship Feed-to-Food Industry Exhibition \n\n\n\n\n\nBangkok\, Thailand | March 10–12\, 2027 \n\n\n\nVIV Asia 2027 is the largest and most influential feed-to-food exhibition in Asia\, covering livestock\, poultry\, aquaculture\, animal health\, and food processing. The event attracts global leaders\, regional producers\, and innovators from across the animal protein value chain.  \n\n\n\nVIV Asia offers unmatched networking\, high-level conferences\, and business matchmaking. It plays a central role in driving innovation\, efficiency\, and sustainability in Asia’s rapidly growing animal production industries.
URL:https://vetnewsandviews.com/en/eventsexpo/viv-asia-2027/
LOCATION:Bangkok
ATTACH;FMTTYPE=image/jpeg:https://vetnewsandviews.com/en/wp-content/uploads/2026/01/Event-Expo-8.jpg
END:VEVENT
BEGIN:VEVENT
DTSTART;TZID=Asia/Karachi:20270609T080000
DTEND;TZID=Asia/Karachi:20270611T170000
DTSTAMP:20260421T170249
CREATED:20260123T095259Z
LAST-MODIFIED:20260128T080256Z
UID:7463-1812528000-1812733200@vetnewsandviews.com
SUMMARY:VIV Select Türkiye 2027
DESCRIPTION:Strategic Gateway Between Europe\, Asia & the Middle East \n\n\n\n\n\nIstanbul\, Türkiye | June 9–11\, 2027 \n\n\n\nVIV Select Türkiye 2027 serves as a strategic meeting point connecting Europe\, Asia\, and the Middle East. The event focuses on livestock production\, animal nutrition\, processing\, and veterinary health. With a selective format\, it emphasizes quality business interactions\, regional partnerships\, and market-focused solutions.  \n\n\n\nVIV Select Türkiye is ideal for companies seeking targeted expansion opportunities across multiple regions from a single platform.
URL:https://vetnewsandviews.com/en/eventsexpo/viv-select-turkiye-2027/
LOCATION:Bangkok
ATTACH;FMTTYPE=image/png:https://vetnewsandviews.com/en/wp-content/uploads/2026/01/Event-Expo-.png
END:VEVENT
BEGIN:VEVENT
DTSTART;TZID=Asia/Karachi:20270915T080000
DTEND;TZID=Asia/Karachi:20270917T170000
DTSTAMP:20260421T170249
CREATED:20260123T095808Z
LAST-MODIFIED:20260128T075323Z
UID:7466-1820995200-1821200400@vetnewsandviews.com
SUMMARY:ILDEX Indonesia 2027
DESCRIPTION:Continuing Growth of Southeast Asia’s Livestock Industry \n\n\n\n\n\nJakarta\, Indonesia | September 15–17\, 2027 \n\n\n\nILDEX Indonesia 2027 continues to support the development of Southeast Asia’s livestock and poultry sectors through innovation and collaboration. The exhibition brings together producers\, suppliers\, veterinarians\, and technology providers. Key themes include feed efficiency\, disease prevention\, sustainability\, and productivity improvement.  \n\n\n\nILDEX Indonesia remains a vital platform for strengthening industry connections and expanding business opportunities in Indonesia’s growing animal protein market.
URL:https://vetnewsandviews.com/en/eventsexpo/ildex-indonesia-2027/
LOCATION:Bangkok
ATTACH;FMTTYPE=image/jpeg:https://vetnewsandviews.com/en/wp-content/uploads/2026/01/Event-Expo-9.jpg
END:VEVENT
BEGIN:VEVENT
DTSTART;TZID=Asia/Karachi:20271006T080000
DTEND;TZID=Asia/Karachi:20271007T170000
DTSTAMP:20260421T170249
CREATED:20260123T100306Z
LAST-MODIFIED:20260128T074924Z
UID:7469-1822809600-1822928400@vetnewsandviews.com
SUMMARY:VIV Africa 2027
DESCRIPTION:Strengthening Livestock & Poultry Markets in West Africa \n\n\n\n\n\nAbidjan\, Côte d’Ivoire | October 6–7\, 2027 \n\n\n\nVIV Africa 2027 expands its footprint into West Africa\, addressing the region’s increasing demand for animal protein. The event connects international solution providers with local producers\, investors\, and government stakeholders.  \n\n\n\nVIV Africa promotes sustainable production systems\, feed innovation\, and veterinary health solutions tailored to African conditions\, supporting long-term agribusiness growth and food security.
URL:https://vetnewsandviews.com/en/eventsexpo/viv-africa-2027/
LOCATION:Bangkok
ATTACH;FMTTYPE=image/jpeg:https://vetnewsandviews.com/en/wp-content/uploads/2026/01/Event-Expo-10.jpg
END:VEVENT
BEGIN:VEVENT
DTSTART;TZID=Asia/Karachi:20271123T080000
DTEND;TZID=Asia/Karachi:20271125T170000
DTSTAMP:20260421T170249
CREATED:20260123T100959Z
LAST-MODIFIED:20260128T074803Z
UID:7472-1826956800-1827162000@vetnewsandviews.com
SUMMARY:VIV MEA 2027
DESCRIPTION:Regional Hub for Feed\, Livestock & Agribusiness Investment \n\n\n\n\n\nAbu Dhabi\, UAE | November 23–25\, 2027 \n\n\n\nVIV Middle East & Africa (MEA) 2027 is a major international exhibition serving the Middle East\, Africa\, and South Asia. Hosted in Abu Dhabi\, the event brings together global leaders in feed\, livestock production\, animal health\, and agrifood investment.  \n\n\n\nVIV MEA offers strong regional connectivity\, high-level networking\, and cross-border business opportunities\, making it a key platform for companies targeting expansion in emerging and established markets.
URL:https://vetnewsandviews.com/en/eventsexpo/viv-mea-2027/
LOCATION:Bangkok
ATTACH;FMTTYPE=image/jpeg:https://vetnewsandviews.com/en/wp-content/uploads/2026/01/Event-Expo-11.jpg
END:VEVENT
END:VCALENDAR